BEGIN:VCALENDAR
VERSION:2.0
PRODID:-//Interval House of Hamilton - ECPv6.15.20//NONSGML v1.0//EN
CALSCALE:GREGORIAN
METHOD:PUBLISH
X-WR-CALNAME:Interval House of Hamilton
X-ORIGINAL-URL:https://intervalhousehamilton.org
X-WR-CALDESC:Events for Interval House of Hamilton
REFRESH-INTERVAL;VALUE=DURATION:PT1H
X-Robots-Tag:noindex
X-PUBLISHED-TTL:PT1H
BEGIN:VTIMEZONE
TZID:America/Toronto
BEGIN:DAYLIGHT
TZOFFSETFROM:-0500
TZOFFSETTO:-0400
TZNAME:EDT
DTSTART:20220313T070000
END:DAYLIGHT
BEGIN:STANDARD
TZOFFSETFROM:-0400
TZOFFSETTO:-0500
TZNAME:EST
DTSTART:20221106T060000
END:STANDARD
BEGIN:DAYLIGHT
TZOFFSETFROM:-0500
TZOFFSETTO:-0400
TZNAME:EDT
DTSTART:20230312T070000
END:DAYLIGHT
BEGIN:STANDARD
TZOFFSETFROM:-0400
TZOFFSETTO:-0500
TZNAME:EST
DTSTART:20231105T060000
END:STANDARD
BEGIN:DAYLIGHT
TZOFFSETFROM:-0500
TZOFFSETTO:-0400
TZNAME:EDT
DTSTART:20240310T070000
END:DAYLIGHT
BEGIN:STANDARD
TZOFFSETFROM:-0400
TZOFFSETTO:-0500
TZNAME:EST
DTSTART:20241103T060000
END:STANDARD
BEGIN:DAYLIGHT
TZOFFSETFROM:-0500
TZOFFSETTO:-0400
TZNAME:EDT
DTSTART:20250309T070000
END:DAYLIGHT
BEGIN:STANDARD
TZOFFSETFROM:-0400
TZOFFSETTO:-0500
TZNAME:EST
DTSTART:20251102T060000
END:STANDARD
END:VTIMEZONE
BEGIN:VTIMEZONE
TZID:Africa/Abidjan
BEGIN:STANDARD
TZOFFSETFROM:+0000
TZOFFSETTO:+0000
TZNAME:GMT
DTSTART:20220101T000000
END:STANDARD
END:VTIMEZONE
BEGIN:VEVENT
DTSTART;TZID=America/Toronto:20240227T163000
DTEND;TZID=America/Toronto:20240227T190000
DTSTAMP:20260425T062203
CREATED:20240108T161319Z
LAST-MODIFIED:20240222T172159Z
UID:10000015-1709051400-1709060400@intervalhousehamilton.org
SUMMARY:Power of Prevention Event 2024                                        Hosted at Caretakers Lounge-Tim Hortons Field
DESCRIPTION:Click Here to Purchase or Sponsor
URL:https://intervalhousehamilton.org/event/power-of-prevention2024/
LOCATION:Tim Hortons Field\, 64 Melrose Ave N\,\, Hamilton\, ON\, Ontario\, L8L 8C1\, Canada
ATTACH;FMTTYPE=image/png:https://intervalhousehamilton.org/wp-content/uploads/2024/01/Powerofpreventionbanner.png
ORGANIZER;CN="Interval House of Hamilton":MAILTO:resourceteam@intervalhousehamilton.org
END:VEVENT
BEGIN:VEVENT
DTSTART;TZID=America/Toronto:20231209T140000
DTEND;TZID=America/Toronto:20231209T160000
DTSTAMP:20260425T062203
CREATED:20231026T141008Z
LAST-MODIFIED:20231206T181019Z
UID:10000012-1702130400-1702137600@intervalhousehamilton.org
SUMMARY:Connie and Friends Present: A Christmas Carol
DESCRIPTION:Click Here to Purchase or Sponsor
URL:https://intervalhousehamilton.org/event/connie-and-friends-presents-a-christmas-carol/
LOCATION:St Andrew’s United Church\, 479 Upper Paradise Rd\, Hamilton\, Ontario\, L9C 5E2\, Canada
ATTACH;FMTTYPE=image/jpeg:https://intervalhousehamilton.org/wp-content/uploads/2023/10/banner.jpg
ORGANIZER;CN="Interval House of Hamilton":MAILTO:resourceteam@intervalhousehamilton.org
END:VEVENT
BEGIN:VEVENT
DTSTART;VALUE=DATE:20231128
DTEND;VALUE=DATE:20231129
DTSTAMP:20260425T062203
CREATED:20231122T175543Z
LAST-MODIFIED:20231122T175547Z
UID:10000013-1701129600-1701215999@intervalhousehamilton.org
SUMMARY:Giving Tuesday 2023
DESCRIPTION:Giving Tuesday November 28th 2023 Click to Donate
URL:https://intervalhousehamilton.org/event/giving-tuesday-2023/
LOCATION:Ontario
ATTACH;FMTTYPE=image/png:https://intervalhousehamilton.org/wp-content/uploads/2023/11/givingtue.png
ORGANIZER;CN="Interval House of Hamilton":MAILTO:resourceteam@intervalhousehamilton.org
END:VEVENT
BEGIN:VEVENT
DTSTART;VALUE=DATE:20231120
DTEND;VALUE=DATE:20240201
DTSTAMP:20260425T062203
CREATED:20231122T180916Z
LAST-MODIFIED:20240124T145537Z
UID:10000014-1700438400-1706745599@intervalhousehamilton.org
SUMMARY:Holiday Mailer 2023
DESCRIPTION:Holiday Mailer 2023 Click to Donate
URL:https://intervalhousehamilton.org/event/holiday-mailer-2023/
LOCATION:Ontario
ATTACH;FMTTYPE=image/png:https://intervalhousehamilton.org/wp-content/uploads/2023/11/HolidayMailer.png
ORGANIZER;CN="Interval House of Hamilton":MAILTO:resourceteam@intervalhousehamilton.org
END:VEVENT
BEGIN:VEVENT
DTSTART;TZID=America/Toronto:20231017T180000
DTEND;TZID=America/Toronto:20231017T220000
DTSTAMP:20260425T062203
CREATED:20230817T200055Z
LAST-MODIFIED:20231003T155358Z
UID:10000010-1697565600-1697580000@intervalhousehamilton.org
SUMMARY:2023 UnGala "Wine vs Beer Taste-Off"                                         Hosted by Shawn & Ed Brewing Co.
DESCRIPTION:Click Here to Purchase or Sponsor\n			\n				\n				\n				\n				\n				Must be 19+ to purchase and attend
URL:https://intervalhousehamilton.org/event/2023-ungala/
LOCATION:Ontario
ATTACH;FMTTYPE=image/jpeg:https://intervalhousehamilton.org/wp-content/uploads/2023/10/Updated-poster.jpg
ORGANIZER;CN="Interval House of Hamilton":MAILTO:resourceteam@intervalhousehamilton.org
END:VEVENT
BEGIN:VEVENT
DTSTART;VALUE=DATE:20230923
DTEND;VALUE=DATE:20230925
DTSTAMP:20260425T062203
CREATED:20230502T194839Z
LAST-MODIFIED:20230505T182121Z
UID:10000007-1695427200-1695599999@intervalhousehamilton.org
SUMMARY:11th Annual Chili Fest-Flamborough Women's Resource Centre
DESCRIPTION:
URL:https://intervalhousehamilton.org/event/chili-fest-sponsor-flamborough-womens-centre/
LOCATION:Ontario
ATTACH;FMTTYPE=image/jpeg:https://intervalhousehamilton.org/wp-content/uploads/2023/05/11th-Annual-3-1.jpg
ORGANIZER;CN="Flamborough Women's Resource Centre":MAILTO:outreachmanager@intervalhousehamilton.org
END:VEVENT
BEGIN:VEVENT
DTSTART;TZID=America/Toronto:20230824T193000
DTEND;TZID=America/Toronto:20230824T213000
DTSTAMP:20260425T062203
CREATED:20230323T195909Z
LAST-MODIFIED:20230327T155434Z
UID:10000005-1692905400-1692912600@intervalhousehamilton.org
SUMMARY:ABBA REVISITED-Connect Marketing 3rd Party Fundraising Event
DESCRIPTION:An Amazing and Powerful Tribute to ABBA!\nABBA Revisited is North America’s #1 tribute to ABBA and its members have been dazzling audiences across the globe since the year 2001. This rock musical will take you back to the disco era. Witness these incredible musicians and singers!  Not only do the four performers look like Anni-Frid\, Bjorn\, Benny and Agnetha\, they also sound unbelievably like them.\nExperience ABBA’s biggest hits\, with costume changes\, choreography\, and big studio sound!  Their look and sound are amazing!\nTo purchase tickets please click HERE\n  \n 
URL:https://intervalhousehamilton.org/event/abbarevisited-connect-marketing-3rd-party-fundraising-event/
LOCATION:MCINTYRE PERFORMING ARTS CENTRE\, 135 Fennell Ave W\, Hamilton\, ONTARIO\, L9C 7V7\, Canada
ATTACH;FMTTYPE=image/jpeg:https://intervalhousehamilton.org/wp-content/uploads/2023/03/Picture-2.jpg
END:VEVENT
BEGIN:VEVENT
DTSTART;VALUE=DATE:20230817
DTEND;VALUE=DATE:20231017
DTSTAMP:20260425T062203
CREATED:20230817T203900Z
LAST-MODIFIED:20231015T202913Z
UID:10000011-1692230400-1697500799@intervalhousehamilton.org
SUMMARY:Ultimate Grey Cup Experience Package Draw
DESCRIPTION:Must be 19+ to purchase\n			\n				\n				\n				\n				\n				Click here to Purchase
URL:https://intervalhousehamilton.org/event/ultimate-grey-cup-experience-package-draw/
LOCATION:Ontario
ATTACH;FMTTYPE=image/png:https://intervalhousehamilton.org/wp-content/uploads/2023/10/Ultimatesoldout.png
ORGANIZER;CN="Interval House of Hamilton":MAILTO:resourceteam@intervalhousehamilton.org
END:VEVENT
BEGIN:VEVENT
DTSTART;TZID=America/Toronto:20230816T090000
DTEND;TZID=America/Toronto:20230816T200000
DTSTAMP:20260425T062203
CREATED:20230516T190527Z
LAST-MODIFIED:20230619T203255Z
UID:10000008-1692176400-1692216000@intervalhousehamilton.org
SUMMARY:15th Annual Freedom and Hope Ladies Golf Tournament
DESCRIPTION:Click HERE to become a sponsor!\n			\n				\n				\n				\n				\n				\n			\n				\n				\n				\n				\n				\n			\n			\n				\n				\n				\n				\n			\n				\n				\n				\n				\n				\n				\n				\n				\n				\n				\n				\n			\n				\n				\n				\n				\n				If you would like information about coming out to golf with us\,  please email  Cathie at ladiesluvgolf@gmail.com
URL:https://intervalhousehamilton.org/event/15th-annual-freedom-and-hope-ladies-golf-tournament/
LOCATION:Oak Gables Golf Club\, 1505 Wilson St W\, Jerseyville\, Ontario\, L0R 1R0
ATTACH;FMTTYPE=image/jpeg:https://intervalhousehamilton.org/wp-content/uploads/2023/05/banner.jpg
ORGANIZER;CN="Interval House of Hamilton":MAILTO:resourceteam@intervalhousehamilton.org
END:VEVENT
BEGIN:VEVENT
DTSTART;TZID=America/Toronto:20230607T120000
DTEND;TZID=America/Toronto:20230607T200000
DTSTAMP:20260425T062203
CREATED:20230202T004607Z
LAST-MODIFIED:20230615T173317Z
UID:10000002-1686139200-1686168000@intervalhousehamilton.org
SUMMARY:21st Annual Drives For Lives Golf Tournament
DESCRIPTION:Click HERE to register to golf with us or become a sponsor!
URL:https://intervalhousehamilton.org/event/dfl2023/
LOCATION:Century Pines Golf Club\, 592 Westover Rd.\, Hamilton\, Ontario\, L0R 2B0\, Canada
ATTACH;FMTTYPE=image/jpeg:https://intervalhousehamilton.org/wp-content/uploads/2023/02/DFL-Banner.jpg
ORGANIZER;CN="Interval House of Hamilton":MAILTO:resourceteam@intervalhousehamilton.org
END:VEVENT
BEGIN:VEVENT
DTSTART;TZID=America/Toronto:20230513T150000
DTEND;TZID=America/Toronto:20230513T180000
DTSTAMP:20260425T062203
CREATED:20230309T183936Z
LAST-MODIFIED:20230615T173410Z
UID:10000004-1683990000-1684000800@intervalhousehamilton.org
SUMMARY:Mothers Day Afternoon Tea
DESCRIPTION:
URL:https://intervalhousehamilton.org/event/mothers-day-afternoon-tea/
LOCATION:The Hamilton Club\, 6 Main Street East\, Hamilton\, Ontario\, L8N 1E8\, Canada
CATEGORIES:Fund Raiser
ATTACH;FMTTYPE=image/jpeg:https://intervalhousehamilton.org/wp-content/uploads/2023/03/banner-1.jpg
ORGANIZER;CN="Interval House of Hamilton":MAILTO:resourceteam@intervalhousehamilton.org
END:VEVENT
BEGIN:VEVENT
DTSTART;VALUE=DATE:20230501
DTEND;VALUE=DATE:20230801
DTSTAMP:20260425T062203
CREATED:20230223T160832Z
LAST-MODIFIED:20230424T012458Z
UID:10000003-1682899200-1690847999@intervalhousehamilton.org
SUMMARY:Mother's Day Butterfly Campaign
DESCRIPTION:
URL:https://intervalhousehamilton.org/event/mothers-day-butterfly-campaign/
LOCATION:Ontario
ATTACH;FMTTYPE=image/jpeg:https://intervalhousehamilton.org/wp-content/uploads/2023/02/Untitled-6-×-4-in-2.jpg
END:VEVENT
BEGIN:VEVENT
DTSTART;TZID=Africa/Abidjan:20230308T100000
DTEND;TZID=Africa/Abidjan:20230308T160000
DTSTAMP:20260425T062203
CREATED:20230124T222956Z
LAST-MODIFIED:20230303T192641Z
UID:10000001-1678269600-1678291200@intervalhousehamilton.org
SUMMARY:International Women’s Day Fundraiser for Interval House of Hamilton
DESCRIPTION:Interested in Ordering? \nFind the deal that suits you best click  Order Page
URL:https://intervalhousehamilton.org/event/iwdfundraiser/
LOCATION:Victoria and Friends Women’s Shelter\, 630 Sanatorium Rd\, Hamilton\, ON\, L9C 7S7\, Canada
ATTACH;FMTTYPE=image/png:https://intervalhousehamilton.org/wp-content/uploads/2023/01/Fundaisier.png
END:VEVENT
END:VCALENDAR