BEGIN:VCALENDAR
VERSION:2.0
PRODID:-//Interval House of Hamilton - ECPv6.15.20//NONSGML v1.0//EN
CALSCALE:GREGORIAN
METHOD:PUBLISH
X-WR-CALNAME:Interval House of Hamilton
X-ORIGINAL-URL:https://intervalhousehamilton.org
X-WR-CALDESC:Events for Interval House of Hamilton
REFRESH-INTERVAL;VALUE=DURATION:PT1H
X-Robots-Tag:noindex
X-PUBLISHED-TTL:PT1H
BEGIN:VTIMEZONE
TZID:America/Toronto
BEGIN:DAYLIGHT
TZOFFSETFROM:-0500
TZOFFSETTO:-0400
TZNAME:EDT
DTSTART:20250309T070000
END:DAYLIGHT
BEGIN:STANDARD
TZOFFSETFROM:-0400
TZOFFSETTO:-0500
TZNAME:EST
DTSTART:20251102T060000
END:STANDARD
BEGIN:DAYLIGHT
TZOFFSETFROM:-0500
TZOFFSETTO:-0400
TZNAME:EDT
DTSTART:20260308T070000
END:DAYLIGHT
BEGIN:STANDARD
TZOFFSETFROM:-0400
TZOFFSETTO:-0500
TZNAME:EST
DTSTART:20261101T060000
END:STANDARD
BEGIN:DAYLIGHT
TZOFFSETFROM:-0500
TZOFFSETTO:-0400
TZNAME:EDT
DTSTART:20270314T070000
END:DAYLIGHT
BEGIN:STANDARD
TZOFFSETFROM:-0400
TZOFFSETTO:-0500
TZNAME:EST
DTSTART:20271107T060000
END:STANDARD
END:VTIMEZONE
BEGIN:VEVENT
DTSTART;TZID=America/Toronto:20260812T103000
DTEND;TZID=America/Toronto:20260812T160000
DTSTAMP:20260423T073443
CREATED:20260310T131449Z
LAST-MODIFIED:20260310T132314Z
UID:10000030-1786530600-1786550400@intervalhousehamilton.org
SUMMARY:Freedom & Hope Women's Golf Tournament - In Support of Jared's Place
DESCRIPTION:18th Annual Freedom & Hope Golf Tournament – A women’s tournament raising critical funds for Jared’s Place through sport\, connection\, and impact. This tournament is made possible by the Freedom and Hope committee of volunteers led by Cathie Rickert and the Oak Gables Golf and Country Club.\n\nJared’s Place\, a program of Interval House of Hamilton\, is a legal advocacy and resource centre dedicated to supporting women who are survivors of abuse and family violence. The program assists women as they navigate complex legal and non-legal systems\, ensuring their voices are heard and helping them access critical legal protections for themselves and their children. \nYour support of our Annual Freedom and Hope Golf Tournament will make a meaningful difference. \nHere are the ways you can Support: \n\nTournament sponsorship: All sponsors and donors receive public recognition at the tournament and across Interval House of Hamilton’s social media channels.\nDonation of new items or prizes: Donated items are eligible for a tax receipt when accompanied by an original receipt indicating the value of the item.\nMonetary donations and sponsorships are also eligible for a tax receipt in accordance with charitable giving guidelines.\n\nWe thank you for your support in this meaningful cause\, and helping Jareds Place continue its life-changing work. \n\nRegistration now open\nGolf: $135 includes cart\, breakfast and lunch.\nLimited spaces. To register email Cathie at ladiesluvgolf@gmail.com \n\nFor sponsorships email Daniella Doyon at resourceteam@intervalhousehamilton.org
URL:https://intervalhousehamilton.org/event/freedom-hope-womens-golf-tournament-in-support-of-jareds-place/
LOCATION:Oak Gables Golf Club\, 1505 Wilson St W\, Jerseyville\, Ontario\, L0R 1R0
END:VEVENT
END:VCALENDAR